BEGIN:VCALENDAR
VERSION:2.0
PRODID:-//Netball France - ECPv6.15.20//NONSGML v1.0//EN
CALSCALE:GREGORIAN
METHOD:PUBLISH
X-WR-CALNAME:Netball France
X-ORIGINAL-URL:https://netballfrance.com
X-WR-CALDESC:Events for Netball France
REFRESH-INTERVAL;VALUE=DURATION:PT1H
X-Robots-Tag:noindex
X-PUBLISHED-TTL:PT1H
BEGIN:VTIMEZONE
TZID:Europe/Paris
BEGIN:DAYLIGHT
TZOFFSETFROM:+0100
TZOFFSETTO:+0200
TZNAME:CEST
DTSTART:20200329T010000
END:DAYLIGHT
BEGIN:STANDARD
TZOFFSETFROM:+0200
TZOFFSETTO:+0100
TZNAME:CET
DTSTART:20201025T010000
END:STANDARD
BEGIN:DAYLIGHT
TZOFFSETFROM:+0100
TZOFFSETTO:+0200
TZNAME:CEST
DTSTART:20210328T010000
END:DAYLIGHT
BEGIN:STANDARD
TZOFFSETFROM:+0200
TZOFFSETTO:+0100
TZNAME:CET
DTSTART:20211031T010000
END:STANDARD
BEGIN:DAYLIGHT
TZOFFSETFROM:+0100
TZOFFSETTO:+0200
TZNAME:CEST
DTSTART:20220327T010000
END:DAYLIGHT
BEGIN:STANDARD
TZOFFSETFROM:+0200
TZOFFSETTO:+0100
TZNAME:CET
DTSTART:20221030T010000
END:STANDARD
BEGIN:DAYLIGHT
TZOFFSETFROM:+0100
TZOFFSETTO:+0200
TZNAME:CEST
DTSTART:20230326T010000
END:DAYLIGHT
BEGIN:STANDARD
TZOFFSETFROM:+0200
TZOFFSETTO:+0100
TZNAME:CET
DTSTART:20231029T010000
END:STANDARD
BEGIN:DAYLIGHT
TZOFFSETFROM:+0100
TZOFFSETTO:+0200
TZNAME:CEST
DTSTART:20240331T010000
END:DAYLIGHT
BEGIN:STANDARD
TZOFFSETFROM:+0200
TZOFFSETTO:+0100
TZNAME:CET
DTSTART:20241027T010000
END:STANDARD
BEGIN:DAYLIGHT
TZOFFSETFROM:+0100
TZOFFSETTO:+0200
TZNAME:CEST
DTSTART:20250330T010000
END:DAYLIGHT
BEGIN:STANDARD
TZOFFSETFROM:+0200
TZOFFSETTO:+0100
TZNAME:CET
DTSTART:20251026T010000
END:STANDARD
END:VTIMEZONE
BEGIN:VEVENT
DTSTART;VALUE=DATE:20240922
DTEND;VALUE=DATE:20240923
DTSTAMP:20260423T175851
CREATED:20240902T120144Z
LAST-MODIFIED:20240902T120215Z
UID:1587-1726963200-1727049599@netballfrance.com
SUMMARY:Open & Junior National Squad Trials 2024/2025
DESCRIPTION:  \nRegistrations to trial for the 2024/25 season of both our Open and Junior National Squads are now open! 🥳 \nTo be eligible\, you must be a french citizen\, be born in France\, have a french parent or grandparent\, OR have been living in France for at least 2 years. \nAll up to date details regarding national squad trials can be found on the registration form 🔗 (please note that registrations close 15th September) \nIf you are unavailable on the day of trials\, please still fill out the registration form to potentially be offered the chance to trial at a later date. \nFurther information regarding the program and commitments will be published prior to trials. \nWe hope to see all eligible athletes registering to trial! 💪🏻💪🏿🦾 \nALLEZ LES BLEUS 🇫🇷
URL:https://netballfrance.com/event/open-junior-national-squad-trials-2024-2025/
CATEGORIES:National Squads
ATTACH;FMTTYPE=image/png:https://netballfrance.com/wp-content/uploads/2024/09/Les-Bleus-Trials-1.png
ORGANIZER;CN="Netball France":MAILTO:contact@netballfrance.com
END:VEVENT
BEGIN:VEVENT
DTSTART;TZID=Europe/Paris:20240921T083000
DTEND;TZID=Europe/Paris:20240921T200000
DTSTAMP:20260423T175851
CREATED:20240611T174131Z
LAST-MODIFIED:20240918T181150Z
UID:1532-1726907400-1726948800@netballfrance.com
SUMMARY:Coupe de France de Netball 2024
DESCRIPTION:The Coupe de France de Netball returns for the quatrième edition\, Saturday 21st September 2024 at @britishschparis! 🏆 \nTHE BASICS:\n\nSaturday 21st September\nhosted by @britishschparis\na new look format for the open age group that follows the World Netball World Cup – see the welcome pack for more details\n4 courts (3 x outdoor astro-turf & 1 x indoor)\n2 age groups (Open\, 18U Div 1\, 18U Div 2)\nall genders welcome (mixed netball rules apply)\nplayed to the World Netball Rules of Netball 2024\n\nClubs have received invites and all initial information via email. We look forward to seeing you all in September – who will be the next champions of France? 🏆 \nPlease note that this event is only open to French clubs. \nDOCUMENTS:\nWe will be using tournify for all teams to be able to see updated scores\, groupings\, tables\, timings\, etc. throughout the day (as well as this information being displayed at the info desk). You can find the event at – https://www.tournifyapp.com/live/cdfdn24 – or on QR codes around the venue on the day. \n\nInitial Information Pack\nWelcome Pack\nMatch & Umpire Schedules\nCDFDN24 Complaints Management Procedure\nHow to Score and Example Score Card\nVenue Map\nWorld Netball Rules of Netball 2024\n\nNATIONAL SQUAD TRIALS:\nNational Squad Trials will be held in Paris on Sunday 22nd September 2024. Stay tuned for more details. Any further questions regarding trials can be directed to teammanager@netballfrance.com.
URL:https://netballfrance.com/event/coupe-de-france-de-netball-2024/
LOCATION:The British School of Paris\, 1 Rue de l'Écluse\, Croissy sur Seine\, 78290\, France
ATTACH;FMTTYPE=image/png:https://netballfrance.com/wp-content/uploads/2024/06/3.png
ORGANIZER;CN="Netball France":MAILTO:contact@netballfrance.com
END:VEVENT
BEGIN:VEVENT
DTSTART;VALUE=DATE:20240731
DTEND;VALUE=DATE:20240801
DTSTAMP:20260423T175851
CREATED:20240701T163436Z
LAST-MODIFIED:20240701T163436Z
UID:1563-1722384000-1722470399@netballfrance.com
SUMMARY:Applications for Board Roles Close Date
DESCRIPTION:Applications For 2024 – 2026 Board Roles Now Open\nDo you want to get involved at Netball France\, growing and developing the sport across the country? Now’s your chance!   \nWith 5 roles open\, and the opportunity for open applications\, Netball France is searching for driven\, motivated individuals who are passionate about netball to drive Netball France forward. \nFormed in 2020\, Netball France is the body responsible for the growth\, sustainability\, and success of netball across France. Our vision is for netball in France to be a thriving\, world class sport\, driven by our values of diversity & inclusion\, respect\, empowerment\, integrity\, transparency\, creativity\, and ambition. \nAs per Netball France policy\, all Board positions re-open to applications every two years on a rolling basis\, in order to ensure that opportunities are available to French applicants and that we are continuing to seek the best talent to drive Netball France forward. Current Board members are encouraged to re-apply\, and there are no limits on number of terms. \nAs we are searching for the best candidates to help drive the sport forward in France\, it is not necessary for all roles to speak French\, be based in France\, or to be currently involved in any of the Member Organisations. The majority of work can be conducted from anywhere in the world\, and meetings can be attended via phone/video connection. Please also note that taking a position on the board will not prevent you from taking any other position within the organisation\, including as a player/athlete. \nThe roles currently open to applications\, and their full role descriptions\, can be found below: \n\nPresident\nSecretary\nFinance Director\nSponsorships\, Partnerships\, and Grants Director\nGovernance Director\nOpen Application\n\nTo apply\, please head to the application form. \nAPPLICATIONS CLOSE 31ST JULY 2024 \nWe encourage all interested applicants to apply\, and look forward to hearing from you. \nPlease note that as a newly formed\, not-for-profit organisation\, Board and Council positions are not remunerated. We are aware of the volume and intensity of work required for each of these positions\, however unfortunately until netball in France grows and receives a higher income\, we are unable to offer compensation. We are looking to find driven\, motivated individuals who are passionate about netball and willing to donate some of their talent and free time to developing Netball France into an elite\, world class organisation.
URL:https://netballfrance.com/event/applications-for-board-roles-close-date/
ATTACH;FMTTYPE=image/png:https://netballfrance.com/wp-content/uploads/2024/07/1.png
ORGANIZER;CN="Netball France":MAILTO:contact@netballfrance.com
END:VEVENT
BEGIN:VEVENT
DTSTART;VALUE=DATE:20240707
DTEND;VALUE=DATE:20240708
DTSTAMP:20260423T175851
CREATED:20240628T111141Z
LAST-MODIFIED:20240628T111307Z
UID:1551-1720310400-1720396799@netballfrance.com
SUMMARY:Applications for National Squad Coaching & Management Positions Close Date
DESCRIPTION:  \nApplications For National Squad Coaching and Management Positions for 2024/2025 Season Now Open\nHave you ever wanted to get involved in international netball coaching or management? Now’s your chance!   \nNetball France is searching for passionate\, ambitious individuals to join our High Performance coaching and management team. \nOur Open National Squad has been incredibly successful in their first two seasons\, most recently bringing home a silver medal in Division 2 of the Europe Netball Open Challenge 2024 and playing enough international ranking matches to receive their first ever World Ranking. Our Junior National Squad is currently completing their first ever season\, with 26 athletes participating in the inaugural squad. Netball France is looking to build on the successes of both squads in the 2024/205 season\, as our Open National Squad looks to increase their World Ranking & participate in more competition opportunities\, and our Junior National Squad works towards competing in their first formal international competition opportunities. \nBoth Open & Junior National Squads are mixed gender. Our Junior National Squad is mixed age\, and contains athletes from both U17 and U21 age groups (the age of current athletes ranges from 13-20). \nAs per Netball France policy\, all Performance Squad Staff roles re-open to applications every two years\, in order to ensure that opportunities are available to French applicants and that we are continuing to provide elite coaching and management teams to our squads. Current staff members are encourage to re-apply\, and there are no limits on number of terms. \nPlease note that it is not required to speak French or be based in France for coaching roles. Team manager roles do not require applicants to be based in France\, but do require applicants to have professional working proficiency in spoken and written French. \nThe roles currently open to applications\, and their full role descriptions\, can be found below: \n\nOpen National Squad Head Coach\nOpen National Squad Assistant Coach\nOpen National Squad Team Manager\nJunior National Squad Head Coach\nJunior National Squad Assistant Coach\nJunior National Squad Team Manager\n\nTo apply\, please head to the application form. \nAPPLICATIONS CLOSE 7TH JULY 2024 \nWe encourage all interested applicants to apply\, and look forward to hearing from you.
URL:https://netballfrance.com/event/applications-for-national-squad-coaching-management-positions-close-date/
CATEGORIES:National Squads
ATTACH;FMTTYPE=image/png:https://netballfrance.com/wp-content/uploads/2024/06/Copy-of-Coach-manager-Announcement.png
ORGANIZER;CN="Netball France":MAILTO:contact@netballfrance.com
END:VEVENT
BEGIN:VEVENT
DTSTART;VALUE=DATE:20240516
DTEND;VALUE=DATE:20240520
DTSTAMP:20260423T175851
CREATED:20240503T213445Z
LAST-MODIFIED:20240503T213717Z
UID:1518-1715817600-1716163199@netballfrance.com
SUMMARY:Europe Netball Open Challenge 2024
DESCRIPTION:Les Bleus are heading to the Isle of Man for the Europe Netball Open Challenge 2024! \nThis is a BIG moment for France – after playing their third match during the event\, France will have officially played enough matches to receive their FIRST EVER world ranking in the next rankings update 🌟 \n🗓️ Thurs 16 – Sun 19 May\n🏐 hosted by Isle of Man Netball\n✨ 5 international matches – 3 x division rounds & 2 x finals\n🔥 matches vs Gibraltar\, Switzerland\, and Malta\n🎟️ tickets on sale now\, link in bio\n📺 livestream will be available\, details to come shortly \nSee below to read all about the event & how the world rankings work\, and follow us at @NetballFrance across socials for all competition\, camp\, and match updates 😍 \nALLEZ LES BLEUS 🇫🇷 \nPURCHASE TICKETS TO WATCH IN THE IOM: https://www.eventbrite.com/e/europe-netball-open-challenge-event-may-16-to-may-19-2024-tickets-853572637737?aff=oddtdtcreator \nALL MATCHES LIVESTREAMED FREE: https://www.youtube.com/@netballeurope/streams
URL:https://netballfrance.com/event/europe-netball-open-challenge-2024/
ATTACH;FMTTYPE=image/png:https://netballfrance.com/wp-content/uploads/2024/05/Schedule-1.png
END:VEVENT
BEGIN:VEVENT
DTSTART;VALUE=DATE:20231028
DTEND;VALUE=DATE:20231029
DTSTAMP:20260423T175851
CREATED:20230914T123759Z
LAST-MODIFIED:20231027T131816Z
UID:1454-1698451200-1698537599@netballfrance.com
SUMMARY:Netball France Ligue Nationale Season Opener – Côte Basque
DESCRIPTION:Netball Côte Basque are hosting a season opener for the Ligue Nationale 2023/2024 in Anglet! \n\n11h00 – Netball Côte Basque Olatuak (B) v Netball Toulouse Léguevin Rouge (B) – streamed on Netball Côte Basque’s facebook page\n12h20 – Netball Côte Basque Mendiak (A) v Netball Toulouse Léguevin Noir (A) – streamed on Netball Côte Basque’s facebook page\n13h40 –  Netball Côte Basque Mendiak (A) v Netball Toulouse Léguevin Rouge (B) – live updates on @NetballFrance’s instagram stories\n15h00 – Netball Côte Basque Olatuak (B) v Netball Toulouse Léguevin Noir (A) – live updates on @NetballFrance’s instagram stories\n\nFor more information on the league structure & how to join the league\, please visit https://netballfrance.com/ligue-nationale/ \nFor more details or to request a place in the event\, please contact ligues@netballfrance.com
URL:https://netballfrance.com/event/netball-france-ligue-nationale-season-opener-south/
CATEGORIES:Netball France Ligue Nationale
END:VEVENT
BEGIN:VEVENT
DTSTART;VALUE=DATE:20231028
DTEND;VALUE=DATE:20231029
DTSTAMP:20260423T175851
CREATED:20230914T123607Z
LAST-MODIFIED:20231027T131822Z
UID:1452-1698451200-1698537599@netballfrance.com
SUMMARY:Netball France Ligue Nationale Season Opener - Paris
DESCRIPTION:Netball Paris are hosting a season opener for the Ligue Nationale 2023/2024 in Paris! \n\n15h00 – Netball Paris Bleu (A) v Netball Nice Sunset (A) – streamed on Netball Paris’ facebook page\n16h30 – Netball Paris Rouge (B) v Netball Nice Sunset (A) – streamed on Netball Paris’ facebook page\n\nFor more information on the league structure & how to join the league\, please visit https://netballfrance.com/ligue-nationale/ \nFor more details or to request a place in the event\, please contact ligues@netballfrance.com
URL:https://netballfrance.com/event/netball-france-ligue-nationale-season-opener-paris/
CATEGORIES:Netball France Ligue Nationale
END:VEVENT
BEGIN:VEVENT
DTSTART;TZID=Europe/Paris:20230924T100000
DTEND;TZID=Europe/Paris:20230924T160000
DTSTAMP:20260423T175851
CREATED:20230810T140544Z
LAST-MODIFIED:20230810T140544Z
UID:1360-1695549600-1695571200@netballfrance.com
SUMMARY:National Squad Trials 2023
DESCRIPTION:Netball France is delighted to announce the trials for the 2023/24 season of Les Bleus\, that is the squad that will compete and represent France in international netball\, will be held in Paris on Sunday 24th September\, following the Coupe de France de Netball 2023. The squad will be selected for the 2023/24 international season and will be working towards the major milestones of competing in Europe Netball Events in 2024 and acquiring a World Ranking. \nPlease see the National Squad Trials FAQ for all current up to date information\, including trial details\, trial registrations\, eligibility\, dates\, etc.
URL:https://netballfrance.com/event/national-squad-trials-2023/
ORGANIZER;CN="Netball France":MAILTO:contact@netballfrance.com
END:VEVENT
BEGIN:VEVENT
DTSTART;TZID=Europe/Paris:20230923T083000
DTEND;TZID=Europe/Paris:20230923T200000
DTSTAMP:20260423T175851
CREATED:20230804T123553Z
LAST-MODIFIED:20230916T165529Z
UID:1338-1695457800-1695499200@netballfrance.com
SUMMARY:Coupe de France de Netball 2023
DESCRIPTION:The Coupe de France de Netball returns for the troisième édition\, Saturday 23rd September 2023 at The British School of Paris!  \nTHE BASICS:\n\nSaturday 23rd September 2023\, 8.30-20.00\nHosted by The British School of Paris\n5 divisions (3 x senior\, 2 x junior)\n4 courts (3 x outdoor astro-turf & 1 x indoor)\n3 age groups (Open\, 18U\, 14U)\nAll genders welcome (mixed netball rules apply)\n\nWe look forward to seeing you all in September – who will be the next champions of France?  \nDOCUMENTS:\n\nInitial Info Pack\nWelcome Pack\nFull Schedule (Matches & Umpiring)\nMatch Schedule (Matches Only)\nHow to Score & Example Score Card\nVenue Map\nWorld Netball Rules of Netball (available in English & French)\n\nNATIONAL SQUAD TRIALS:\nIf you are looking for information on the national squad trials to be held on Sunday 24th September 2023\, please head to the National Squad Trials 2023 FAQ. Any further questions regarding trials can be directed to teammanager@netballfrance.com.
URL:https://netballfrance.com/event/coupe-de-france-de-netball-2023/
LOCATION:The British School of Paris\, 1 Rue de l'Écluse\, Croissy sur Seine\, 78290\, France
ATTACH;FMTTYPE=image/png:https://netballfrance.com/wp-content/uploads/2023/08/CDFDN23-Announcement-1.png
ORGANIZER;CN="Netball France":MAILTO:contact@netballfrance.com
END:VEVENT
BEGIN:VEVENT
DTSTART;TZID=Europe/Paris:20230903T183000
DTEND;TZID=Europe/Paris:20230903T193000
DTSTAMP:20260423T175851
CREATED:20230827T141536Z
LAST-MODIFIED:20230827T141649Z
UID:1417-1693765800-1693769400@netballfrance.com
SUMMARY:Netball France Online Workshops - Session One: How to Start a Club & Set Up an Association
DESCRIPTION:Our first Online Workshop\, How to Start a Club & Set Up an Association\, will be on September 3rd at 18h30\, led by Jessica Leach! Jess is a squad member of the 2022/2023 Les Bleus\, as well as the President & Founder of Netball86\, one of our newest emerging member clubs. \nThe session will cover all the basics you need to know to set up your own netball club in France\, such as how to find members\, how to get gym space\, how to register an association\, and how to become a member of Netball France. \nOur online workshops are live and free\, and you can register for this session here.
URL:https://netballfrance.com/event/netball-france-online-workshops-session-one/
LOCATION:Online
CATEGORIES:Netball France Online Workshops
ATTACH;FMTTYPE=image/png:https://netballfrance.com/wp-content/uploads/2023/08/ONLINE-WORKSHOPS-ONLINE-WORKSHOPS-ONLINE-WORKSHOPS-ONLINE-WORKSHOPS-ONLINE-WORKSHOPS-ONLINE-WORKSHOPS.png
ORGANIZER;CN="Netball France":MAILTO:contact@netballfrance.com
END:VEVENT
BEGIN:VEVENT
DTSTART;VALUE=DATE:20230429
DTEND;VALUE=DATE:20230430
DTSTAMP:20260423T175851
CREATED:20230210T144905Z
LAST-MODIFIED:20230210T144905Z
UID:1313-1682726400-1682812799@netballfrance.com
SUMMARY:Netball France - Ligue Nationale Pilote: Valley Vipers Hosted Match Day
DESCRIPTION:Valley Vipers are hosting a match day as part of the Netball France – Ligue Nationale Pilote on Saturday 29th April 2023. \nAvailability for 3-5 teams depending on schedule\, open to Mixed & Female teams. \nFor more details or to request a place in the event\, please contact ligues@netballfrance.com
URL:https://netballfrance.com/event/netball-france-ligue-nationale-pilote-valley-vipers-hosted-match-day/
CATEGORIES:Netball France - Ligue Nationale Pilote
END:VEVENT
BEGIN:VEVENT
DTSTART;VALUE=DATE:20230304
DTEND;VALUE=DATE:20230305
DTSTAMP:20260423T175851
CREATED:20230210T144648Z
LAST-MODIFIED:20230210T144730Z
UID:1309-1677888000-1677974399@netballfrance.com
SUMMARY:Netball France - Ligue Nationale Pilote: Netball Côte Basque Hosted Match Day
DESCRIPTION:Netball Côte Basque is hosting a match day as part of the Netball France – Ligue Nationale Pilote on Saturday 4th March 2023. \nAvailability for 3-5 teams depending on schedule\, open to Mixed & Female teams. \nFor more details or to request a place in the event\, please contact ligues@netballfrance.com
URL:https://netballfrance.com/event/netball-france-ligue-nationale-pilote-cote-basque-hosted-match-day/
CATEGORIES:Netball France - Ligue Nationale Pilote
END:VEVENT
BEGIN:VEVENT
DTSTART;TZID=Europe/Paris:20220925T100000
DTEND;TZID=Europe/Paris:20220925T180000
DTSTAMP:20260423T175851
CREATED:20220618T164251Z
LAST-MODIFIED:20220901T152100Z
UID:1145-1664100000-1664128800@netballfrance.com
SUMMARY:National Squad Trials
DESCRIPTION:Netball France is delighted to announce the trials for the inaugural French National Squad\, that is the squad that will compete and represent France in international netball\, will be held in Paris on Saturday 25th September\, following the Coupe de France de Netball 2022. The inaugural squad will be selected for the 2022/23 international season and will be working towards the major milestones of competing in Europe Netball Events in 2023 (subject to French government\, World Netball\, and Europe Netball approval) and acquiring a World Ranking. \nPlease see the National Squad Trials FAQ for all current up to date information\, including trial details\, trial registrations\, eligibility\, dates\, etc.
URL:https://netballfrance.com/event/national-squad-trials/
LOCATION:Gymnase Auguste Renoir\, 1 Square Auguste Renoir\, PARIS\, 75014\, France
ATTACH;FMTTYPE=image/png:https://netballfrance.com/wp-content/uploads/2022/09/Orange-and-Blue-Try-Outs-Invitation-2-1.png
ORGANIZER;CN="Netball France":MAILTO:contact@netballfrance.com
END:VEVENT
BEGIN:VEVENT
DTSTART;VALUE=DATE:20220924
DTEND;VALUE=DATE:20220925
DTSTAMP:20260423T175851
CREATED:20220617T150709Z
LAST-MODIFIED:20220916T085948Z
UID:1128-1663977600-1664063999@netballfrance.com
SUMMARY:Coupe de France de Netball 2022
DESCRIPTION:The Coupe de France de Netball returns for the deuxième édition\, Saturday 24th September 2022 at The British School of Paris!  \nTHE BASICS:\n\nSaturday 24th September 2022\, 8.30-20.00\nHosted by The British School of Paris\n5 divisions (3 x senior\, 2 x junior)\n4 courts (3 x outdoor astro-turf & 1 x indoor)\n3 age groups (Open\, 18U\, 14U)\nAll genders welcome (mixed netball rules apply)\n\nWe look forward to seeing you all in September – who will be the next champions of France?  \nDOCUMENTS:\n\nWelcome Pack (includes tournament rules & layout of day)\nSchedule\nScore Card and How to Score\nVenue Map\nWorld Netball Rules of Netball (available in English & French)
URL:https://netballfrance.com/event/coupe-de-france-de-netball-2022/
LOCATION:The British School of Paris\, 1 Rue de l'Écluse\, Croissy sur Seine\, 78290\, France
ATTACH;FMTTYPE=image/png:https://netballfrance.com/wp-content/uploads/2022/06/CDFDN22-Announcement.png
ORGANIZER;CN="Netball France":MAILTO:contact@netballfrance.com
END:VEVENT
BEGIN:VEVENT
DTSTART;VALUE=DATE:20220731
DTEND;VALUE=DATE:20220801
DTSTAMP:20260423T175851
CREATED:20220619T144637Z
LAST-MODIFIED:20220619T144836Z
UID:1183-1659225600-1659311999@netballfrance.com
SUMMARY:Netball France x Flyhawk Design the Dress Competition Closes
DESCRIPTION:Netball France is excited to announce that Flyhawk will be our national kit partner! Flyhawk are a netball specific brand whose products are size and gender inclusive\, and we are delighted to partner with a brand that shares our core values. To celebrate\, we’re inviting all our members and fans to design a dress you would like to see the French team competing in. \nThe winning design will become our first national dress and will be worn by France in international competition in 2023! The winner will also receive a replica copy of the dress. \nHow to Enter: \n\nDownload the design form\nCreate your design with the provided template\nSend your completed design to contact@netballfrance.com with the subject ‘NETBALL FRANCE DESIGN THE DRESS COMPETITION 2022 – [Participant First + Last Name]’\n\nThe winner will be decided by the Netball France Board\, and the winning design will be unveiled at the Coupe de France de Netball 2022 on Saturday 24th September. \nEntry is open worldwide to all Netball France members and fans\, with the competition closing at 11.59pm CET on Sunday 31st July 2022. You may enter more than one design but will need a new design form for each entry. By entering the competition\, participants are deemed to have agreed to the terms and conditions. \nClick here for the design form\nClick here for the terms and conditions \nGood luck – we look forward to seeing what you come up with\, and to seeing the national team on court in your design! \n 
URL:https://netballfrance.com/event/netball-france-x-flyhawk-design-the-dress-competition-closes/
ATTACH;FMTTYPE=image/png:https://netballfrance.com/wp-content/uploads/2022/06/Screen-Shot-2022-06-19-at-16.41.21.png
ORGANIZER;CN="Netball France":MAILTO:contact@netballfrance.com
END:VEVENT
BEGIN:VEVENT
DTSTART;TZID=Europe/Paris:20220512T084500
DTEND;TZID=Europe/Paris:20220512T133000
DTSTAMP:20260423T175851
CREATED:20220325T165330Z
LAST-MODIFIED:20220325T165330Z
UID:1125-1652345100-1652362200@netballfrance.com
SUMMARY:2022 Netball France Interschool Tournament
DESCRIPTION:
URL:https://netballfrance.com/event/2022-netball-france-interschool-tournament/
ATTACH;FMTTYPE=image/png:https://netballfrance.com/wp-content/uploads/2022/03/P1630125.png
ORGANIZER;CN="Netball France":MAILTO:contact@netballfrance.com
END:VEVENT
BEGIN:VEVENT
DTSTART;TZID=Europe/Paris:20220213T200000
DTEND;TZID=Europe/Paris:20220213T220000
DTSTAMP:20260423T175851
CREATED:20220125T155157Z
LAST-MODIFIED:20220125T155607Z
UID:1113-1644782400-1644789600@netballfrance.com
SUMMARY:2022 Netball France AGM
DESCRIPTION:
URL:https://netballfrance.com/event/2022-netball-france-agm/
LOCATION:Online
ATTACH;FMTTYPE=image/png:https://netballfrance.com/wp-content/uploads/2022/01/2.png
ORGANIZER;CN="Netball France":MAILTO:contact@netballfrance.com
END:VEVENT
BEGIN:VEVENT
DTSTART;TZID=Europe/Paris:20210926T090000
DTEND;TZID=Europe/Paris:20210926T120000
DTSTAMP:20260423T175851
CREATED:20210717T202732Z
LAST-MODIFIED:20210725T115412Z
UID:272-1632646800-1632657600@netballfrance.com
SUMMARY:Netball Taster Day
DESCRIPTION:
URL:https://netballfrance.com/event/netball-taster-day/
END:VEVENT
BEGIN:VEVENT
DTSTART;VALUE=DATE:20210925
DTEND;VALUE=DATE:20210926
DTSTAMP:20260423T175851
CREATED:20210717T200948Z
LAST-MODIFIED:20210725T115409Z
UID:263-1632528000-1632614399@netballfrance.com
SUMMARY:2021 Coupe de France de Netball
DESCRIPTION:
URL:https://netballfrance.com/event/2021-netball-france-cup/
LOCATION:The British School of Paris\, 1 Rue de l'Écluse\, Croissy sur Seine\, 78290\, France
ORGANIZER;CN="Netball France":MAILTO:contact@netballfrance.com
END:VEVENT
BEGIN:VEVENT
DTSTART;VALUE=DATE:20210730
DTEND;VALUE=DATE:20210731
DTSTAMP:20260423T175851
CREATED:20210717T202653Z
LAST-MODIFIED:20210725T115414Z
UID:270-1627603200-1627689599@netballfrance.com
SUMMARY:NF x VNSL Team Video Training Program Launch
DESCRIPTION:
URL:https://netballfrance.com/event/nf-x-lp-video-training-program-launch/
END:VEVENT
END:VCALENDAR